BEGIN:VCALENDAR
VERSION:2.0
PRODID:-//Pico Water District - ECPv6.15.18//NONSGML v1.0//EN
CALSCALE:GREGORIAN
METHOD:PUBLISH
X-ORIGINAL-URL:https://www.picowaterdistrict.net
X-WR-CALDESC:Events for Pico Water District
REFRESH-INTERVAL;VALUE=DURATION:PT1H
X-Robots-Tag:noindex
X-PUBLISHED-TTL:PT1H
BEGIN:VTIMEZONE
TZID:UTC
BEGIN:STANDARD
TZOFFSETFROM:+0000
TZOFFSETTO:+0000
TZNAME:UTC
DTSTART:20250101T000000
END:STANDARD
END:VTIMEZONE
BEGIN:VTIMEZONE
TZID:America/Los_Angeles
BEGIN:DAYLIGHT
TZOFFSETFROM:-0800
TZOFFSETTO:-0700
TZNAME:PDT
DTSTART:20250309T100000
END:DAYLIGHT
BEGIN:STANDARD
TZOFFSETFROM:-0700
TZOFFSETTO:-0800
TZNAME:PST
DTSTART:20251102T090000
END:STANDARD
BEGIN:DAYLIGHT
TZOFFSETFROM:-0800
TZOFFSETTO:-0700
TZNAME:PDT
DTSTART:20260308T100000
END:DAYLIGHT
BEGIN:STANDARD
TZOFFSETFROM:-0700
TZOFFSETTO:-0800
TZNAME:PST
DTSTART:20261101T090000
END:STANDARD
BEGIN:DAYLIGHT
TZOFFSETFROM:-0800
TZOFFSETTO:-0700
TZNAME:PDT
DTSTART:20270314T100000
END:DAYLIGHT
BEGIN:STANDARD
TZOFFSETFROM:-0700
TZOFFSETTO:-0800
TZNAME:PST
DTSTART:20271107T090000
END:STANDARD
END:VTIMEZONE
BEGIN:VEVENT
DTSTART;TZID=UTC:20260107T173000
DTEND;TZID=UTC:20260107T183000
DTSTAMP:20260421T030134
CREATED:20210714T234753Z
LAST-MODIFIED:20241220T010125Z
UID:1492-1767807000-1767810600@www.picowaterdistrict.net
SUMMARY:Board Meeting
DESCRIPTION:
URL:https://www.picowaterdistrict.net/event/board-meeting/2026-01-07/
END:VEVENT
BEGIN:VEVENT
DTSTART;VALUE=DATE:20260109
DTEND;VALUE=DATE:20260110
DTSTAMP:20260421T030134
CREATED:20210728T041645Z
LAST-MODIFIED:20210728T041645Z
UID:1917-1767916800-1768003199@www.picowaterdistrict.net
SUMMARY:Office Closed
DESCRIPTION:
URL:https://www.picowaterdistrict.net/event/office-closed/2026-01-09/
END:VEVENT
BEGIN:VEVENT
DTSTART;VALUE=DATE:20260116
DTEND;VALUE=DATE:20260117
DTSTAMP:20260421T030134
CREATED:20210728T041645Z
LAST-MODIFIED:20241018T170334Z
UID:1502-1768521600-1768607999@www.picowaterdistrict.net
SUMMARY:Office Closed
DESCRIPTION:
URL:https://www.picowaterdistrict.net/event/office-closed/2026-01-16/
END:VEVENT
BEGIN:VEVENT
DTSTART;VALUE=DATE:20260119
DTEND;VALUE=DATE:20260120
DTSTAMP:20260421T030134
CREATED:20241220T011705Z
LAST-MODIFIED:20241220T011705Z
UID:2069-1768780800-1768867199@www.picowaterdistrict.net
SUMMARY:Office Closed for Martin Luther King Jr. Day
DESCRIPTION:
URL:https://www.picowaterdistrict.net/event/office-closed-for-martin-luther-king-jr-day/2026-01-19/
END:VEVENT
BEGIN:VEVENT
DTSTART;TZID=UTC:20260121T173000
DTEND;TZID=UTC:20260121T183000
DTSTAMP:20260421T030134
CREATED:20210714T234753Z
LAST-MODIFIED:20210714T234753Z
UID:2054-1769016600-1769020200@www.picowaterdistrict.net
SUMMARY:Board Meeting
DESCRIPTION:
URL:https://www.picowaterdistrict.net/event/board-meeting/2026-01-21/
END:VEVENT
BEGIN:VEVENT
DTSTART;TZID=America/Los_Angeles:20260121T173000
DTEND;TZID=America/Los_Angeles:20260121T183000
DTSTAMP:20260421T030134
CREATED:20241018T165546Z
LAST-MODIFIED:20241018T165546Z
UID:1800-1769016600-1769020200@www.picowaterdistrict.net
SUMMARY:Board Meeting
DESCRIPTION:
URL:https://www.picowaterdistrict.net/event/board-meeting-2/2026-01-21/
END:VEVENT
BEGIN:VEVENT
DTSTART;VALUE=DATE:20260123
DTEND;VALUE=DATE:20260124
DTSTAMP:20260421T030134
CREATED:20210728T041645Z
LAST-MODIFIED:20210728T041645Z
UID:1918-1769126400-1769212799@www.picowaterdistrict.net
SUMMARY:Office Closed
DESCRIPTION:
URL:https://www.picowaterdistrict.net/event/office-closed/2026-01-23/
END:VEVENT
BEGIN:VEVENT
DTSTART;VALUE=DATE:20260130
DTEND;VALUE=DATE:20260131
DTSTAMP:20260421T030134
CREATED:20210728T041645Z
LAST-MODIFIED:20241018T170335Z
UID:1530-1769731200-1769817599@www.picowaterdistrict.net
SUMMARY:Office Closed
DESCRIPTION:
URL:https://www.picowaterdistrict.net/event/office-closed/2026-01-30/
END:VEVENT
BEGIN:VEVENT
DTSTART;TZID=UTC:20260204T173000
DTEND;TZID=UTC:20260204T183000
DTSTAMP:20260421T030134
CREATED:20210714T234753Z
LAST-MODIFIED:20241220T010125Z
UID:1539-1770226200-1770229800@www.picowaterdistrict.net
SUMMARY:Board Meeting
DESCRIPTION:
URL:https://www.picowaterdistrict.net/event/board-meeting/2026-02-04/
END:VEVENT
BEGIN:VEVENT
DTSTART;VALUE=DATE:20260206
DTEND;VALUE=DATE:20260207
DTSTAMP:20260421T030134
CREATED:20210728T041645Z
LAST-MODIFIED:20210728T041645Z
UID:1919-1770336000-1770422399@www.picowaterdistrict.net
SUMMARY:Office Closed
DESCRIPTION:
URL:https://www.picowaterdistrict.net/event/office-closed/2026-02-06/
END:VEVENT
BEGIN:VEVENT
DTSTART;VALUE=DATE:20260213
DTEND;VALUE=DATE:20260214
DTSTAMP:20260421T030134
CREATED:20210728T041645Z
LAST-MODIFIED:20241018T170335Z
UID:1558-1770940800-1771027199@www.picowaterdistrict.net
SUMMARY:Office Closed
DESCRIPTION:
URL:https://www.picowaterdistrict.net/event/office-closed/2026-02-13/
END:VEVENT
BEGIN:VEVENT
DTSTART;VALUE=DATE:20260216
DTEND;VALUE=DATE:20260217
DTSTAMP:20260421T030134
CREATED:20241220T012642Z
LAST-MODIFIED:20241220T012642Z
UID:2071-1771200000-1771286399@www.picowaterdistrict.net
SUMMARY:Office Closed for Presidents' Day
DESCRIPTION:
URL:https://www.picowaterdistrict.net/event/office-closed-for-presidents-day/2026-02-16/
END:VEVENT
BEGIN:VEVENT
DTSTART;TZID=UTC:20260218T173000
DTEND;TZID=UTC:20260218T183000
DTSTAMP:20260421T030134
CREATED:20210714T234753Z
LAST-MODIFIED:20210714T234753Z
UID:2055-1771435800-1771439400@www.picowaterdistrict.net
SUMMARY:Board Meeting
DESCRIPTION:
URL:https://www.picowaterdistrict.net/event/board-meeting/2026-02-18/
END:VEVENT
BEGIN:VEVENT
DTSTART;TZID=America/Los_Angeles:20260218T173000
DTEND;TZID=America/Los_Angeles:20260218T183000
DTSTAMP:20260421T030134
CREATED:20241018T165546Z
LAST-MODIFIED:20241018T165546Z
UID:1801-1771435800-1771439400@www.picowaterdistrict.net
SUMMARY:Board Meeting
DESCRIPTION:
URL:https://www.picowaterdistrict.net/event/board-meeting-2/2026-02-18/
END:VEVENT
BEGIN:VEVENT
DTSTART;VALUE=DATE:20260220
DTEND;VALUE=DATE:20260221
DTSTAMP:20260421T030134
CREATED:20210728T041645Z
LAST-MODIFIED:20210728T041645Z
UID:1920-1771545600-1771631999@www.picowaterdistrict.net
SUMMARY:Office Closed
DESCRIPTION:
URL:https://www.picowaterdistrict.net/event/office-closed/2026-02-20/
END:VEVENT
BEGIN:VEVENT
DTSTART;VALUE=DATE:20260227
DTEND;VALUE=DATE:20260228
DTSTAMP:20260421T030134
CREATED:20210728T041645Z
LAST-MODIFIED:20241018T170335Z
UID:1576-1772150400-1772236799@www.picowaterdistrict.net
SUMMARY:Office Closed
DESCRIPTION:
URL:https://www.picowaterdistrict.net/event/office-closed/2026-02-27/
END:VEVENT
BEGIN:VEVENT
DTSTART;TZID=UTC:20260304T173000
DTEND;TZID=UTC:20260304T183000
DTSTAMP:20260421T030134
CREATED:20210714T234753Z
LAST-MODIFIED:20241220T010126Z
UID:1586-1772645400-1772649000@www.picowaterdistrict.net
SUMMARY:Board Meeting
DESCRIPTION:
URL:https://www.picowaterdistrict.net/event/board-meeting/2026-03-04/
END:VEVENT
BEGIN:VEVENT
DTSTART;VALUE=DATE:20260306
DTEND;VALUE=DATE:20260307
DTSTAMP:20260421T030134
CREATED:20210728T041645Z
LAST-MODIFIED:20210728T041645Z
UID:1921-1772755200-1772841599@www.picowaterdistrict.net
SUMMARY:Office Closed
DESCRIPTION:
URL:https://www.picowaterdistrict.net/event/office-closed/2026-03-06/
END:VEVENT
BEGIN:VEVENT
DTSTART;VALUE=DATE:20260313
DTEND;VALUE=DATE:20260314
DTSTAMP:20260421T030134
CREATED:20210728T041645Z
LAST-MODIFIED:20241018T170335Z
UID:1596-1773360000-1773446399@www.picowaterdistrict.net
SUMMARY:Office Closed
DESCRIPTION:
URL:https://www.picowaterdistrict.net/event/office-closed/2026-03-13/
END:VEVENT
BEGIN:VEVENT
DTSTART;TZID=UTC:20260318T173000
DTEND;TZID=UTC:20260318T183000
DTSTAMP:20260421T030134
CREATED:20210714T234753Z
LAST-MODIFIED:20210714T234753Z
UID:2056-1773855000-1773858600@www.picowaterdistrict.net
SUMMARY:Board Meeting
DESCRIPTION:
URL:https://www.picowaterdistrict.net/event/board-meeting/2026-03-18/
END:VEVENT
BEGIN:VEVENT
DTSTART;TZID=America/Los_Angeles:20260318T173000
DTEND;TZID=America/Los_Angeles:20260318T183000
DTSTAMP:20260421T030134
CREATED:20241018T165546Z
LAST-MODIFIED:20241018T165546Z
UID:1802-1773855000-1773858600@www.picowaterdistrict.net
SUMMARY:Board Meeting
DESCRIPTION:
URL:https://www.picowaterdistrict.net/event/board-meeting-2/2026-03-18/
END:VEVENT
BEGIN:VEVENT
DTSTART;VALUE=DATE:20260320
DTEND;VALUE=DATE:20260321
DTSTAMP:20260421T030134
CREATED:20210728T041645Z
LAST-MODIFIED:20210728T041645Z
UID:1922-1773964800-1774051199@www.picowaterdistrict.net
SUMMARY:Office Closed
DESCRIPTION:
URL:https://www.picowaterdistrict.net/event/office-closed/2026-03-20/
END:VEVENT
BEGIN:VEVENT
DTSTART;VALUE=DATE:20260327
DTEND;VALUE=DATE:20260328
DTSTAMP:20260421T030134
CREATED:20210728T041645Z
LAST-MODIFIED:20241018T170335Z
UID:1610-1774569600-1774655999@www.picowaterdistrict.net
SUMMARY:Office Closed
DESCRIPTION:
URL:https://www.picowaterdistrict.net/event/office-closed/2026-03-27/
END:VEVENT
BEGIN:VEVENT
DTSTART;TZID=UTC:20260401T173000
DTEND;TZID=UTC:20260401T183000
DTSTAMP:20260421T030134
CREATED:20210714T234753Z
LAST-MODIFIED:20241220T010126Z
UID:1615-1775064600-1775068200@www.picowaterdistrict.net
SUMMARY:Board Meeting
DESCRIPTION:
URL:https://www.picowaterdistrict.net/event/board-meeting/2026-04-01/
END:VEVENT
BEGIN:VEVENT
DTSTART;VALUE=DATE:20260403
DTEND;VALUE=DATE:20260404
DTSTAMP:20260421T030134
CREATED:20210728T041645Z
LAST-MODIFIED:20210728T041645Z
UID:1923-1775174400-1775260799@www.picowaterdistrict.net
SUMMARY:Office Closed
DESCRIPTION:
URL:https://www.picowaterdistrict.net/event/office-closed/2026-04-03/
END:VEVENT
BEGIN:VEVENT
DTSTART;VALUE=DATE:20260410
DTEND;VALUE=DATE:20260411
DTSTAMP:20260421T030134
CREATED:20210728T041645Z
LAST-MODIFIED:20241018T170336Z
UID:1626-1775779200-1775865599@www.picowaterdistrict.net
SUMMARY:Office Closed
DESCRIPTION:
URL:https://www.picowaterdistrict.net/event/office-closed/2026-04-10/
END:VEVENT
BEGIN:VEVENT
DTSTART;TZID=UTC:20260415T173000
DTEND;TZID=UTC:20260415T183000
DTSTAMP:20260421T030134
CREATED:20210714T234753Z
LAST-MODIFIED:20210714T234753Z
UID:2057-1776274200-1776277800@www.picowaterdistrict.net
SUMMARY:Board Meeting
DESCRIPTION:
URL:https://www.picowaterdistrict.net/event/board-meeting/2026-04-15/
END:VEVENT
BEGIN:VEVENT
DTSTART;TZID=America/Los_Angeles:20260415T173000
DTEND;TZID=America/Los_Angeles:20260415T183000
DTSTAMP:20260421T030134
CREATED:20241018T165546Z
LAST-MODIFIED:20241018T165546Z
UID:1803-1776274200-1776277800@www.picowaterdistrict.net
SUMMARY:Board Meeting
DESCRIPTION:
URL:https://www.picowaterdistrict.net/event/board-meeting-2/2026-04-15/
END:VEVENT
BEGIN:VEVENT
DTSTART;VALUE=DATE:20260417
DTEND;VALUE=DATE:20260418
DTSTAMP:20260421T030134
CREATED:20210728T041645Z
LAST-MODIFIED:20210728T041645Z
UID:1924-1776384000-1776470399@www.picowaterdistrict.net
SUMMARY:Office Closed
DESCRIPTION:
URL:https://www.picowaterdistrict.net/event/office-closed/2026-04-17/
END:VEVENT
BEGIN:VEVENT
DTSTART;VALUE=DATE:20260424
DTEND;VALUE=DATE:20260425
DTSTAMP:20260421T030134
CREATED:20210728T041645Z
LAST-MODIFIED:20241018T170337Z
UID:1637-1776988800-1777075199@www.picowaterdistrict.net
SUMMARY:Office Closed
DESCRIPTION:
URL:https://www.picowaterdistrict.net/event/office-closed/2026-04-24/
END:VEVENT
END:VCALENDAR